{
 "currentVersion": 11.3,
 "cimVersion": "3.3.0",
 "serviceDescription": "Version 106.0.0 (05.12.2018): Neustart der Versionierung",
 "mapName": "Layers",
 "description": "",
 "copyrightText": "Datengrundlage: Hessische Verwaltung für Bodenmanagement und Geoinformation / Datenbereitstellung: Hessisches Landesamt für Umwelt und Geologie",
 "supportsDynamicLayers": false,
 "layers": [
  {
   "id": 0,
   "name": "Luftbilder",
   "parentLayerId": -1,
   "defaultVisibility": true,
   "subLayerIds": null,
   "minScale": 0,
   "maxScale": 0,
   "type": "Feature Layer",
   "geometryType": "esriGeometryPolygon",
   "supportsDynamicLegends": true
  }
 ],
 "tables": [],
 "spatialReference": {
  "wkid": 25832,
  "latestWkid": 25832,
  "xyTolerance": 0.001,
  "zTolerance": 0.001,
  "mTolerance": 0.001,
  "falseX": -5120900,
  "falseY": -9998100,
  "xyUnits": 4.504455473910538E8,
  "falseZ": -100000,
  "zUnits": 10000,
  "falseM": -100000,
  "mUnits": 10000
 },
 "singleFusedMapCache": true,
 "tileInfo": {
  "rows": 256,
  "cols": 256,
  "dpi": 96,
  "format": "PNG",
  "compressionQuality": 0,
  "origin": {
   "x": -5120900,
   "y": 9998100
  },
  "spatialReference": {
   "wkid": 25832,
   "latestWkid": 25832,
   "xyTolerance": 0.001,
   "zTolerance": 0.001,
   "mTolerance": 0.001,
   "falseX": -5120900,
   "falseY": -9998100,
   "xyUnits": 4.504455473910538E8,
   "falseZ": -100000,
   "zUnits": 10000,
   "falseM": -100000,
   "mUnits": 10000
  },
  "lods": [
   {
    "level": 0,
    "resolution": 595.3136906273813,
    "scale": 2250000
   },
   {
    "level": 1,
    "resolution": 529.1677250021168,
    "scale": 2000000
   },
   {
    "level": 2,
    "resolution": 463.0217593768521,
    "scale": 1750000
   },
   {
    "level": 3,
    "resolution": 396.87579375158754,
    "scale": 1500000
   },
   {
    "level": 4,
    "resolution": 330.72982812632296,
    "scale": 1250000
   },
   {
    "level": 5,
    "resolution": 264.5838625010584,
    "scale": 1000000
   },
   {
    "level": 6,
    "resolution": 198.43789687579377,
    "scale": 750000
   },
   {
    "level": 7,
    "resolution": 132.2919312505292,
    "scale": 500000
   },
   {
    "level": 8,
    "resolution": 66.1459656252646,
    "scale": 250000
   },
   {
    "level": 9,
    "resolution": 52.91677250021167,
    "scale": 200000
   },
   {
    "level": 10,
    "resolution": 39.687579375158755,
    "scale": 150000
   },
   {
    "level": 11,
    "resolution": 26.458386250105836,
    "scale": 100000
   },
   {
    "level": 12,
    "resolution": 19.843789687579378,
    "scale": 75000
   },
   {
    "level": 13,
    "resolution": 15.875031750063501,
    "scale": 60000
   },
   {
    "level": 14,
    "resolution": 13.229193125052918,
    "scale": 50000
   },
   {
    "level": 15,
    "resolution": 9.260435187537043,
    "scale": 35000
   },
   {
    "level": 16,
    "resolution": 6.614596562526459,
    "scale": 25000
   },
   {
    "level": 17,
    "resolution": 5.291677250021167,
    "scale": 20000
   },
   {
    "level": 18,
    "resolution": 3.9687579375158752,
    "scale": 15000
   },
   {
    "level": 19,
    "resolution": 2.6458386250105836,
    "scale": 10000
   },
   {
    "level": 20,
    "resolution": 2.381254762509525,
    "scale": 9000
   },
   {
    "level": 21,
    "resolution": 1.9843789687579376,
    "scale": 7500
   },
   {
    "level": 22,
    "resolution": 1.3229193125052918,
    "scale": 5000
   },
   {
    "level": 23,
    "resolution": 0.7937515875031751,
    "scale": 3000
   },
   {
    "level": 24,
    "resolution": 0.6614596562526459,
    "scale": 2500
   },
   {
    "level": 25,
    "resolution": 0.26458386250105836,
    "scale": 1000
   },
   {
    "level": 26,
    "resolution": 0.13229193125052918,
    "scale": 500
   }
  ]
 },
 "storageInfo": {
  "storageFormat": "esriMapCacheStorageModeCompactV2",
  "packetSize": 128
 },
 "initialExtent": {
  "xmin": 341483.6724068689,
  "ymin": 5468347.096395826,
  "xmax": 675339.4934278548,
  "ymax": 5730756.889668595,
  "spatialReference": {
   "wkid": 25832,
   "latestWkid": 25832,
   "xyTolerance": 0.001,
   "zTolerance": 0.001,
   "mTolerance": 0.001,
   "falseX": -5120900,
   "falseY": -9998100,
   "xyUnits": 4.504455473910538E8,
   "falseZ": -100000,
   "zUnits": 10000,
   "falseM": -100000,
   "mUnits": 10000
  }
 },
 "fullExtent": {
  "xmin": 412133.9840000002,
  "ymin": 5471408.535,
  "xmax": 586408.6460000002,
  "ymax": 5723092.335000001,
  "spatialReference": {
   "wkid": 25832,
   "latestWkid": 25832,
   "xyTolerance": 0.001,
   "zTolerance": 0.001,
   "mTolerance": 0.001,
   "falseX": -5120900,
   "falseY": -9998100,
   "xyUnits": 4.504455473910538E8,
   "falseZ": -100000,
   "zUnits": 10000,
   "falseM": -100000,
   "mUnits": 10000
  }
 },
 "datesInUnknownTimezone": false,
 "minScale": 2250000,
 "maxScale": 500,
 "units": "esriMeters",
 "supportedImageFormatTypes": "PNG32,PNG24,PNG,JPG,DIB,TIFF,EMF,PS,PDF,GIF,SVG,SVGZ,BMP",
 "documentInfo": {
  "Title": "Historische Luftbilder 1933",
  "Author": "Rainer Hübner, HLNUG",
  "Comments": "Version 106.0.0 (05.12.2018): Neustart der Versionierung",
  "Subject": "Historische Luftbilder 1933",
  "Category": "",
  "Version": "10.1",
  "AntialiasingMode": "None",
  "TextAntialiasingMode": "Force",
  "Keywords": "Luftbilder"
 },
 "supportsQueryDomains": true,
 "capabilities": "Map,Query,Data",
 "supportedQueryFormats": "JSON, geoJSON, PBF",
 "exportTilesAllowed": false,
 "referenceScale": 0.0,
 "datumTransformations": [
  {
   "geoTransforms": [
    {
     "wkid": 108001,
     "latestWkid": 1241,
     "transformForward": true,
     "name": "NAD_1927_To_NAD_1983_NADCON"
    }
   ]
  },
  {
   "geoTransforms": [
    {
     "wkid": 108001,
     "latestWkid": 1241,
     "transformForward": false,
     "name": "NAD_1927_To_NAD_1983_NADCON"
    }
   ]
  }
 ],
 "supportsDatumTransformation": true,
 "archivingInfo": {
  "supportsHistoricMoment": false
 },
 "supportsClipping": true,
 "supportsSpatialFilter": true,
 "supportsTimeRelation": true,
 "supportsQueryDataElements": true,
 "mapUnits": {
  "uwkid": 9001
 },
 "maxRecordCount": 1000,
 "maxImageHeight": 4096,
 "maxImageWidth": 4096,
 "supportedExtensions": "",
 "resampling": false
}
