View In:
ArcGIS JavaScript
ArcGIS Online Map Viewer
ArcGIS Earth
Service Description: DGM5 zur Höhenmessung
Name: geobasis/DHM_DGM5
Description: DGM5 zur Höhenmessung
Single Fused Map Cache: false
Extent:
XMin: 410997.5
YMin: 5470997.5
XMax: 587002.5
YMax: 5724002.5
Spatial Reference: 25832
(25832)
LatestVCSWkid(0)
Initial Extent:
XMin: 410997.5
YMin: 5470997.5
XMax: 587002.5
YMax: 5724002.5
Spatial Reference: 25832
(25832)
LatestVCSWkid(0)
Full Extent:
XMin: 410997.5
YMin: 5470997.5
XMax: 587002.5
YMax: 5724002.5
Spatial Reference: 25832
(25832)
LatestVCSWkid(0)
Pixel Size X: 5.0
Pixel Size Y: 5.0
Band Count: 1
Pixel Type: F32
RasterFunction Infos: {"rasterFunctionInfos": [{
"name": "None",
"description": "",
"help": ""
}]}
Mensuration Capabilities:
Inspection Capabilities:
Has Histograms: true
Has Colormap: false
Has Multi Dimensions : false
Rendering Rule:
Min Scale: 0
Max Scale: 0
Resampling: false
Copyright Text: (c) Hessisches Landesamt für Naturschutz, Umwelt und Geologie
Service Data Type: esriImageServiceDataTypeGeneric
Min Values: 53.797000885009766
Max Values: 953.0670166015625
Mean Values: 298.93927323458604
Standard Deviation Values: 125.24364102092801
Object ID Field:
Fields:
None
Default Mosaic Method: Center
Allowed Mosaic Methods:
SortField:
SortValue: null
Mosaic Operator: First
Default Compression Quality: 75
Default Resampling Method: Bilinear
Max Record Count: null
Max Image Height: 4100
Max Image Width: 15000
Max Download Image Count: null
Max Mosaic Image Count: null
Allow Raster Function: true
Allow Copy: true
Allow Analysis: true
Allow Compute TiePoints: false
Supports Statistics: false
Supports Advanced Queries: false
Use StandardizedQueries: true
Raster Type Infos:
Name: Raster Dataset
Description: Unterstützt alle ArcGIS-Raster-Datasets
Help:
Has Raster Attribute Table: false
Edit Fields Info: null
Ownership Based AccessControl For Rasters: null
Child Resources:
Info
Histograms
Statistics
Key Properties
Legend
Raster Function Infos
Supported Operations:
Export Image
Identify
Measure
Compute Histograms
Compute Statistics Histograms
Get Samples
Compute Class Statistics
Query Boundary
Compute Pixel Location
Compute Angles
Validate
Project